BEGIN:VCALENDAR
VERSION:2.0
PRODID:-//“Els Xurravins” Associació de Gent Gran - ECPv6.15.12.2//NONSGML v1.0//EN
CALSCALE:GREGORIAN
METHOD:PUBLISH
X-WR-CALNAME:“Els Xurravins” Associació de Gent Gran
X-ORIGINAL-URL:https://elsxurravins.com
X-WR-CALDESC:Esdeveniments per “Els Xurravins” Associació de Gent Gran
REFRESH-INTERVAL;VALUE=DURATION:PT1H
X-Robots-Tag:noindex
X-PUBLISHED-TTL:PT1H
BEGIN:VTIMEZONE
TZID:Europe/Madrid
BEGIN:DAYLIGHT
TZOFFSETFROM:+0100
TZOFFSETTO:+0200
TZNAME:CEST
DTSTART:20250330T010000
END:DAYLIGHT
BEGIN:STANDARD
TZOFFSETFROM:+0200
TZOFFSETTO:+0100
TZNAME:CET
DTSTART:20251026T010000
END:STANDARD
BEGIN:DAYLIGHT
TZOFFSETFROM:+0100
TZOFFSETTO:+0200
TZNAME:CEST
DTSTART:20260329T010000
END:DAYLIGHT
BEGIN:STANDARD
TZOFFSETFROM:+0200
TZOFFSETTO:+0100
TZNAME:CET
DTSTART:20261025T010000
END:STANDARD
BEGIN:DAYLIGHT
TZOFFSETFROM:+0100
TZOFFSETTO:+0200
TZNAME:CEST
DTSTART:20270328T010000
END:DAYLIGHT
BEGIN:STANDARD
TZOFFSETFROM:+0200
TZOFFSETTO:+0100
TZNAME:CET
DTSTART:20271031T010000
END:STANDARD
END:VTIMEZONE
BEGIN:VEVENT
DTSTART;TZID=Europe/Madrid:20260422T080000
DTEND;TZID=Europe/Madrid:20260422T183000
DTSTAMP:20260422T023602
CREATED:20260313T104032Z
LAST-MODIFIED:20260313T115116Z
UID:3537-1776844800-1776882600@elsxurravins.com
SUMMARY:SORTIDA CULTURAL - VISITA A LES CAVES JAUME SERRA - DIMECRES 22 D'ABRIL
DESCRIPTION:Sortida des de Sant Vicenç a les 8:10h \nEsmorzar de camí cap a Vilanova i la Geltrú. \nVisita a les caves Jaume Serra. \nTot seguit es fara cap al restaurant per dinar\, el menú consta de: \nEntremes \nFideuà de peix amb all i oli \nRostit de carn de porc amb verduretes \nPostres\, pa\, vi i/o aigua \nCopa de cava\, cafè i gotes \ndesprés de dinar gauditem de música pewr ballar. \nPreu bus\, visites i dinar 70€ \nLIMIT INSCRIPCIONS\, 17 D’ABRIL \n 
URL:https://elsxurravins.com/esdeveniment/sortida-cultural-visita-a-les-caves-jaume-serra-dimecres-22-dabril/
CATEGORIES:Esdeveniments,Sortides Culturals
ATTACH;FMTTYPE=image/jpeg:https://elsxurravins.com/wp-content/uploads/2026/03/Vilanova.jpeg
ORGANIZER;CN="Associaci%C3%B3 de gent gran els Xurravins":MAILTO:xurravins@gmail.com
END:VEVENT
BEGIN:VEVENT
DTSTART;TZID=Europe/Madrid:20260422T183000
DTEND;TZID=Europe/Madrid:20260422T203000
DTSTAMP:20260422T023602
CREATED:20260309T191840Z
LAST-MODIFIED:20260309T191840Z
UID:3514-1776882600-1776889800@elsxurravins.com
SUMMARY:BINGO DELS XURRAVINS - DIMECRES 22 D'ABRIL - A LES 18:30h
DESCRIPTION:
URL:https://elsxurravins.com/esdeveniment/bingo-dels-xurravins-dimecres-22-dabril-a-les-1830h/
LOCATION:Local social dels Xurravins
CATEGORIES:Bingo,Esdeveniments
ATTACH;FMTTYPE=image/jpeg:https://elsxurravins.com/wp-content/uploads/2026/03/Bingo11.jpg
ORGANIZER;CN="Associaci%C3%B3 de gent gran els Xurravins":MAILTO:xurravins@gmail.com
END:VEVENT
END:VCALENDAR