BEGIN:VCALENDAR
VERSION:2.0
PRODID:-//“Els Xurravins” Associació de Gent Gran - ECPv6.15.12.2//NONSGML v1.0//EN
CALSCALE:GREGORIAN
METHOD:PUBLISH
X-WR-CALNAME:“Els Xurravins” Associació de Gent Gran
X-ORIGINAL-URL:https://elsxurravins.com
X-WR-CALDESC:Esdeveniments per “Els Xurravins” Associació de Gent Gran
REFRESH-INTERVAL;VALUE=DURATION:PT1H
X-Robots-Tag:noindex
X-PUBLISHED-TTL:PT1H
BEGIN:VTIMEZONE
TZID:Europe/Madrid
BEGIN:DAYLIGHT
TZOFFSETFROM:+0100
TZOFFSETTO:+0200
TZNAME:CEST
DTSTART:20230326T010000
END:DAYLIGHT
BEGIN:STANDARD
TZOFFSETFROM:+0200
TZOFFSETTO:+0100
TZNAME:CET
DTSTART:20231029T010000
END:STANDARD
BEGIN:DAYLIGHT
TZOFFSETFROM:+0100
TZOFFSETTO:+0200
TZNAME:CEST
DTSTART:20240331T010000
END:DAYLIGHT
BEGIN:STANDARD
TZOFFSETFROM:+0200
TZOFFSETTO:+0100
TZNAME:CET
DTSTART:20241027T010000
END:STANDARD
BEGIN:DAYLIGHT
TZOFFSETFROM:+0100
TZOFFSETTO:+0200
TZNAME:CEST
DTSTART:20250330T010000
END:DAYLIGHT
BEGIN:STANDARD
TZOFFSETFROM:+0200
TZOFFSETTO:+0100
TZNAME:CET
DTSTART:20251026T010000
END:STANDARD
END:VTIMEZONE
BEGIN:VEVENT
DTSTART;TZID=Europe/Madrid:20241120T180000
DTEND;TZID=Europe/Madrid:20241120T233000
DTSTAMP:20260424T073152
CREATED:20241021T162002Z
LAST-MODIFIED:20241021T162547Z
UID:2449-1732125600-1732145400@elsxurravins.com
SUMMARY:TEATRE - MAR I CEL - POLIORAMA - DIJOUS 20 DE NOVEMBRE
DESCRIPTION:Anem al teatre Poliorama de Barcelona a veure l’obra de Dagoll-Dagom Mar i Cel. Escrita per Àngel Guimerà l’any 1888 estrenada al teatre Romea de Barcelona la vetlla del 7 de febrer del mateix any.\nSortides:\nCentre cívic a les 18:00h.\nSorli a les 18:10h
URL:https://elsxurravins.com/esdeveniment/teatre-mar-i-cel-poliorama-dijous-20-de-novembre/
CATEGORIES:Esdeveniments,Sortida al teatre
ATTACH;FMTTYPE=image/jpeg:https://elsxurravins.com/wp-content/uploads/2024/10/MariCel.jpeg
END:VEVENT
END:VCALENDAR