BEGIN:VCALENDAR
VERSION:2.0
PRODID:-//“Els Xurravins” Associació de Gent Gran - ECPv6.15.12.2//NONSGML v1.0//EN
CALSCALE:GREGORIAN
METHOD:PUBLISH
X-WR-CALNAME:“Els Xurravins” Associació de Gent Gran
X-ORIGINAL-URL:https://elsxurravins.com
X-WR-CALDESC:Esdeveniments per “Els Xurravins” Associació de Gent Gran
REFRESH-INTERVAL;VALUE=DURATION:PT1H
X-Robots-Tag:noindex
X-PUBLISHED-TTL:PT1H
BEGIN:VTIMEZONE
TZID:Europe/Madrid
BEGIN:DAYLIGHT
TZOFFSETFROM:+0100
TZOFFSETTO:+0200
TZNAME:CEST
DTSTART:20230326T010000
END:DAYLIGHT
BEGIN:STANDARD
TZOFFSETFROM:+0200
TZOFFSETTO:+0100
TZNAME:CET
DTSTART:20231029T010000
END:STANDARD
BEGIN:DAYLIGHT
TZOFFSETFROM:+0100
TZOFFSETTO:+0200
TZNAME:CEST
DTSTART:20240331T010000
END:DAYLIGHT
BEGIN:STANDARD
TZOFFSETFROM:+0200
TZOFFSETTO:+0100
TZNAME:CET
DTSTART:20241027T010000
END:STANDARD
BEGIN:DAYLIGHT
TZOFFSETFROM:+0100
TZOFFSETTO:+0200
TZNAME:CEST
DTSTART:20250330T010000
END:DAYLIGHT
BEGIN:STANDARD
TZOFFSETFROM:+0200
TZOFFSETTO:+0100
TZNAME:CET
DTSTART:20251026T010000
END:STANDARD
END:VTIMEZONE
BEGIN:VEVENT
DTSTART;TZID=Europe/Madrid:20241210T110000
DTEND;TZID=Europe/Madrid:20241210T113000
DTSTAMP:20260422T132754
CREATED:20241022T071100Z
LAST-MODIFIED:20241022T071100Z
UID:2478-1733828400-1733830200@elsxurravins.com
SUMMARY:LA VEU DE LA GENT GRAN – DIMARTS 10 DE DESEMBRE A LES 11:00H
DESCRIPTION:Cada segon dimarts de mes\, en Manel Parcerisa condueix una tertúlia per parlar de l’actualitat\, sobretot de la de la gent gran de Sant Vicenç. \nEn aquesta edició\, membres de la junta del Xurravins faran una valoració de com ha anat l’any que se’ns esmuny. \nI pel 2025\, què? \nDoncs\, ja ens ho explicaran.
URL:https://elsxurravins.com/esdeveniment/la-veu-de-la-gent-gran-dimarts-10-de-desembre-a-les-1100h/
CATEGORIES:Esdeveniments,Ràdio,Tertùlies
ATTACH;FMTTYPE=image/jpeg:https://elsxurravins.com/wp-content/uploads/2024/08/ICONA.jpg
ORGANIZER;CN="Associaci%C3%B3 de gent gran els Xurravins":MAILTO:xurravins@gmail.com
END:VEVENT
BEGIN:VEVENT
DTSTART;TZID=Europe/Madrid:20241217T110000
DTEND;TZID=Europe/Madrid:20241217T113000
DTSTAMP:20260422T132754
CREATED:20241022T073543Z
LAST-MODIFIED:20241022T073543Z
UID:2480-1734433200-1734435000@elsxurravins.com
SUMMARY:LA VEU DE LA GENT GRAN – ESPECIAL CONXI FAR ( i 4) – HIPOTEQUES INVERSES – RÀDIO SANTVI 107.4 – dimarts 17 de desembre de 2024
DESCRIPTION:Amb aquest episodi acabem la profitosa sèrie que\, en mans de Conxi Far\, ens ha exposat alguna de les moltes problemàtiques que envolten a la gent gran a la hora de dirigir-se a llocs públics que generalment obvien això\, que som gent gran que hem viscut una infinitat de cambis socials i molts de nosaltres desconeixem quina ha estat la evolució social.
URL:https://elsxurravins.com/esdeveniment/la-veu-de-la-gent-gran-especial-conxi-far-i-4-hipoteques-inverses-radio-santvi-107-4-dimarts-17-de-desembre-de-2024/
CATEGORIES:Esdeveniments,Ràdio
ATTACH;FMTTYPE=image/jpeg:https://elsxurravins.com/wp-content/uploads/2024/10/241210Conxi.jpg
ORGANIZER;CN="Associaci%C3%B3 de gent gran els Xurravins":MAILTO:xurravins@gmail.com
END:VEVENT
END:VCALENDAR