BEGIN:VCALENDAR
VERSION:2.0
PRODID:-//“Els Xurravins” Associació de Gent Gran - ECPv6.15.12.2//NONSGML v1.0//EN
CALSCALE:GREGORIAN
METHOD:PUBLISH
X-WR-CALNAME:“Els Xurravins” Associació de Gent Gran
X-ORIGINAL-URL:https://elsxurravins.com
X-WR-CALDESC:Esdeveniments per “Els Xurravins” Associació de Gent Gran
REFRESH-INTERVAL;VALUE=DURATION:PT1H
X-Robots-Tag:noindex
X-PUBLISHED-TTL:PT1H
BEGIN:VTIMEZONE
TZID:Europe/Madrid
BEGIN:DAYLIGHT
TZOFFSETFROM:+0100
TZOFFSETTO:+0200
TZNAME:CEST
DTSTART:20240331T010000
END:DAYLIGHT
BEGIN:STANDARD
TZOFFSETFROM:+0200
TZOFFSETTO:+0100
TZNAME:CET
DTSTART:20241027T010000
END:STANDARD
BEGIN:DAYLIGHT
TZOFFSETFROM:+0100
TZOFFSETTO:+0200
TZNAME:CEST
DTSTART:20250330T010000
END:DAYLIGHT
BEGIN:STANDARD
TZOFFSETFROM:+0200
TZOFFSETTO:+0100
TZNAME:CET
DTSTART:20251026T010000
END:STANDARD
BEGIN:DAYLIGHT
TZOFFSETFROM:+0100
TZOFFSETTO:+0200
TZNAME:CEST
DTSTART:20260329T010000
END:DAYLIGHT
BEGIN:STANDARD
TZOFFSETFROM:+0200
TZOFFSETTO:+0100
TZNAME:CET
DTSTART:20261025T010000
END:STANDARD
END:VTIMEZONE
BEGIN:VEVENT
DTSTART;TZID=Europe/Madrid:20250311T183000
DTEND;TZID=Europe/Madrid:20250311T203000
DTSTAMP:20260422T075522
CREATED:20250302T201652Z
LAST-MODIFIED:20250303T105508Z
UID:2836-1741717800-1741725000@elsxurravins.com
SUMMARY:LA VEU DE LA GENT GRAN - DIMARTS 11 DE MARÇ - ACTIVITATS DEL MES
DESCRIPTION:Dimarts 11 de març\, emetrem una nova edició del programa. \nTractarem de les activitats del mes. \nPrestarem bastant atenció a l’Assemblea General de l’Associació de Gent Gran de Sant Vicenç de Montalt que tindrà lloc el divendres 21\, a les 18:30h a la sala d’actes del centre cívic.
URL:https://elsxurravins.com/esdeveniment/la-veu-de-la-gent-gran-dimarts-11-de-marc-activitats-del-mes/
CATEGORIES:Esdeveniments,Ràdio
ATTACH;FMTTYPE=image/jpeg:https://elsxurravins.com/wp-content/uploads/2025/03/250211LaVeu.jpg
ORGANIZER;CN="Associaci%C3%B3 de gent gran els Xurravins":MAILTO:xurravins@gmail.com
END:VEVENT
BEGIN:VEVENT
DTSTART;TZID=Europe/Madrid:20250318T110000
DTEND;TZID=Europe/Madrid:20250318T113000
DTSTAMP:20260422T075522
CREATED:20250302T211433Z
LAST-MODIFIED:20250302T211433Z
UID:2851-1742295600-1742297400@elsxurravins.com
SUMMARY:LA VEU DE LA GENT GRAN - ESPECIAL CONXI FAR - FRAUS FINANCERS - dimarts 18 de març a les 11:00h
DESCRIPTION:El dimarts 18\, el nostre programa\, en la sèrie Especial Conxi Far estarà dedicat als Fraus Financers\, presentat pel conductor del programa Manel Parcerisa qui farà tertùlia amb la nostra apreciada Conxi Far. \nEns proporcionarà informació valuosa i consells pràctics per protegir-nos dels fraus financers. \nÉs una oportunitat perfecta per aprendre a mantenir-se segur en un món cada cop més digital. \nNo us ho perdeu! \nCom sempre\, rebreu l’enllaç a la nostra web per veure’n el vídeo.
URL:https://elsxurravins.com/esdeveniment/la-veu-de-la-gent-gran-especial-conxi-far-fraus-financers-dimarts-18-de-marc-a-les-1100h/
CATEGORIES:Esdeveniments,Ràdio
ATTACH;FMTTYPE=image/jpeg:https://elsxurravins.com/wp-content/uploads/2025/03/250318ConxiFar.jpg
ORGANIZER;CN="Associaci%C3%B3 de gent gran els Xurravins":MAILTO:xurravins@gmail.com
END:VEVENT
END:VCALENDAR