BEGIN:VCALENDAR
VERSION:2.0
PRODID:-//“Els Xurravins” Associació de Gent Gran - ECPv6.15.12.2//NONSGML v1.0//EN
CALSCALE:GREGORIAN
METHOD:PUBLISH
X-ORIGINAL-URL:https://elsxurravins.com
X-WR-CALDESC:Esdeveniments per “Els Xurravins” Associació de Gent Gran
REFRESH-INTERVAL;VALUE=DURATION:PT1H
X-Robots-Tag:noindex
X-PUBLISHED-TTL:PT1H
BEGIN:VTIMEZONE
TZID:Europe/Madrid
BEGIN:DAYLIGHT
TZOFFSETFROM:+0100
TZOFFSETTO:+0200
TZNAME:CEST
DTSTART:20240331T010000
END:DAYLIGHT
BEGIN:STANDARD
TZOFFSETFROM:+0200
TZOFFSETTO:+0100
TZNAME:CET
DTSTART:20241027T010000
END:STANDARD
BEGIN:DAYLIGHT
TZOFFSETFROM:+0100
TZOFFSETTO:+0200
TZNAME:CEST
DTSTART:20250330T010000
END:DAYLIGHT
BEGIN:STANDARD
TZOFFSETFROM:+0200
TZOFFSETTO:+0100
TZNAME:CET
DTSTART:20251026T010000
END:STANDARD
BEGIN:DAYLIGHT
TZOFFSETFROM:+0100
TZOFFSETTO:+0200
TZNAME:CEST
DTSTART:20260329T010000
END:DAYLIGHT
BEGIN:STANDARD
TZOFFSETFROM:+0200
TZOFFSETTO:+0100
TZNAME:CET
DTSTART:20261025T010000
END:STANDARD
END:VTIMEZONE
BEGIN:VEVENT
DTSTART;TZID=Europe/Madrid:20250408T110000
DTEND;TZID=Europe/Madrid:20250408T113000
DTSTAMP:20260422T060656
CREATED:20250319T145056Z
LAST-MODIFIED:20250319T145056Z
UID:2897-1744110000-1744111800@elsxurravins.com
SUMMARY:LA VEU DE LA GENT GRAN - DIMARTRS 8 D'ABRIL 2025 - LES ACTIVITATS DEL MES
DESCRIPTION:Els segons dimarts de mes\, Manel Parcerisa conductor del programa fa tertúlia amb membres de la junta dels Xurravins on s’explica quines son les particularitats del mes que s’inicia.
URL:https://elsxurravins.com/esdeveniment/la-veu-de-la-gent-gran-dimartrs-8-dabril-2025-les-activitats-del-mes/
CATEGORIES:Esdeveniments,Ràdio
ATTACH;FMTTYPE=image/jpeg:https://elsxurravins.com/wp-content/uploads/2025/03/ICONA.jpg
END:VEVENT
BEGIN:VEVENT
DTSTART;TZID=Europe/Madrid:20250415T110000
DTEND;TZID=Europe/Madrid:20250415T113000
DTSTAMP:20260422T060656
CREATED:20250319T151102Z
LAST-MODIFIED:20250401T080744Z
UID:2903-1744714800-1744716600@elsxurravins.com
SUMMARY:LA VEU DE LA GENT GRAN - ESPECIAL CONXI FAR - DRETS A LA PARTICIPACIÓ CIUTADANA - DIMARTS 15 D'ABRIL - 11:00h
DESCRIPTION:En aquesta ocasió\, na Conxi Far ens parlarà dels DRETS A LA PARTICIPACIÓ CIUTADANA. \nTema molt interessant. Tenim drets\, la gent que ja hem complert un grapat d’anys. Doncs Conxi Far ens ho explicarà
URL:https://elsxurravins.com/esdeveniment/la-veu-de-la-gent-gran-especial-conxi-far-dimarts-15-dabril-1100h/
CATEGORIES:Esdeveniments,Ràdio
ATTACH;FMTTYPE=image/jpeg:https://elsxurravins.com/wp-content/uploads/2024/08/ICONA.jpg
ORGANIZER;CN="Associaci%C3%B3 de gent gran els Xurravins":MAILTO:xurravins@gmail.com
END:VEVENT
END:VCALENDAR