BEGIN:VCALENDAR
VERSION:2.0
PRODID:-//“Els Xurravins” Associació de Gent Gran - ECPv6.15.12.2//NONSGML v1.0//EN
CALSCALE:GREGORIAN
METHOD:PUBLISH
X-ORIGINAL-URL:https://elsxurravins.com
X-WR-CALDESC:Esdeveniments per “Els Xurravins” Associació de Gent Gran
REFRESH-INTERVAL;VALUE=DURATION:PT1H
X-Robots-Tag:noindex
X-PUBLISHED-TTL:PT1H
BEGIN:VTIMEZONE
TZID:Europe/Madrid
BEGIN:DAYLIGHT
TZOFFSETFROM:+0100
TZOFFSETTO:+0200
TZNAME:CEST
DTSTART:20240331T010000
END:DAYLIGHT
BEGIN:STANDARD
TZOFFSETFROM:+0200
TZOFFSETTO:+0100
TZNAME:CET
DTSTART:20241027T010000
END:STANDARD
BEGIN:DAYLIGHT
TZOFFSETFROM:+0100
TZOFFSETTO:+0200
TZNAME:CEST
DTSTART:20250330T010000
END:DAYLIGHT
BEGIN:STANDARD
TZOFFSETFROM:+0200
TZOFFSETTO:+0100
TZNAME:CET
DTSTART:20251026T010000
END:STANDARD
BEGIN:DAYLIGHT
TZOFFSETFROM:+0100
TZOFFSETTO:+0200
TZNAME:CEST
DTSTART:20260329T010000
END:DAYLIGHT
BEGIN:STANDARD
TZOFFSETFROM:+0200
TZOFFSETTO:+0100
TZNAME:CET
DTSTART:20261025T010000
END:STANDARD
END:VTIMEZONE
BEGIN:VEVENT
DTSTART;TZID=Europe/Madrid:20250610T110000
DTEND;TZID=Europe/Madrid:20250610T113000
DTSTAMP:20260422T023237
CREATED:20250430T113727Z
LAST-MODIFIED:20250430T113727Z
UID:3009-1749553200-1749555000@elsxurravins.com
SUMMARY:LA VEU DE LA GENT GRAN – NOVETATS DEL MES DE JUNY – DIMARTS 10 – 11:00h
DESCRIPTION:Cada segon dimarts de mes\, el conductor del programa\, Manel Parcerisa fa tertúlia amb membres de la junta dels Xurravins per parlar de les activitats del mes en curs.
URL:https://elsxurravins.com/esdeveniment/la-veu-de-la-gent-gran-novetats-del-mes-de-juny-dimarts-10-1100h/
CATEGORIES:Esdeveniments,Ràdio
ATTACH;FMTTYPE=image/jpeg:https://elsxurravins.com/wp-content/uploads/2025/03/ICONA.jpg
ORGANIZER;CN="Associaci%C3%B3 de gent gran els Xurravins":MAILTO:xurravins@gmail.com
END:VEVENT
BEGIN:VEVENT
DTSTART;TZID=Europe/Madrid:20250617T110000
DTEND;TZID=Europe/Madrid:20250617T113000
DTSTAMP:20260422T023237
CREATED:20250430T114141Z
LAST-MODIFIED:20250430T114156Z
UID:3011-1750158000-1750159800@elsxurravins.com
SUMMARY:LA VEU DE LA GENT GRAN – ESPECIAL CONXI FAR – LLEIS PER A LA PROTECCIÓ DE LA GENT GRAN – DIMARTS 17 DE JUNY- 11:00h
DESCRIPTION:Seguint amb la sèrie de reportatges sobre la problemàtica de la gent gran\, la nostra apreciada Conxi Far ens n’explicarà un munt!
URL:https://elsxurravins.com/esdeveniment/la-veu-de-la-gent-gran-especial-conxi-far-lleis-per-a-la-proteccio-de-la-gent-gran-dimarts-17-de-maig-1100h/
CATEGORIES:Esdeveniments,Ràdio
ATTACH;FMTTYPE=image/jpeg:https://elsxurravins.com/wp-content/uploads/2025/04/250617.jpg
ORGANIZER;CN="Associaci%C3%B3 de gent gran els Xurravins":MAILTO:xurravins@gmail.com
END:VEVENT
END:VCALENDAR