BEGIN:VCALENDAR
VERSION:2.0
PRODID:-//“Els Xurravins” Associació de Gent Gran - ECPv6.15.12.2//NONSGML v1.0//EN
CALSCALE:GREGORIAN
METHOD:PUBLISH
X-WR-CALNAME:“Els Xurravins” Associació de Gent Gran
X-ORIGINAL-URL:https://elsxurravins.com
X-WR-CALDESC:Esdeveniments per “Els Xurravins” Associació de Gent Gran
REFRESH-INTERVAL;VALUE=DURATION:PT1H
X-Robots-Tag:noindex
X-PUBLISHED-TTL:PT1H
BEGIN:VTIMEZONE
TZID:Europe/Madrid
BEGIN:DAYLIGHT
TZOFFSETFROM:+0100
TZOFFSETTO:+0200
TZNAME:CEST
DTSTART:20240331T010000
END:DAYLIGHT
BEGIN:STANDARD
TZOFFSETFROM:+0200
TZOFFSETTO:+0100
TZNAME:CET
DTSTART:20241027T010000
END:STANDARD
BEGIN:DAYLIGHT
TZOFFSETFROM:+0100
TZOFFSETTO:+0200
TZNAME:CEST
DTSTART:20250330T010000
END:DAYLIGHT
BEGIN:STANDARD
TZOFFSETFROM:+0200
TZOFFSETTO:+0100
TZNAME:CET
DTSTART:20251026T010000
END:STANDARD
BEGIN:DAYLIGHT
TZOFFSETFROM:+0100
TZOFFSETTO:+0200
TZNAME:CEST
DTSTART:20260329T010000
END:DAYLIGHT
BEGIN:STANDARD
TZOFFSETFROM:+0200
TZOFFSETTO:+0100
TZNAME:CET
DTSTART:20261025T010000
END:STANDARD
END:VTIMEZONE
BEGIN:VEVENT
DTSTART;TZID=Europe/Madrid:20251010T120000
DTEND;TZID=Europe/Madrid:20251010T123000
DTSTAMP:20260421T190124
CREATED:20250827T153144Z
LAST-MODIFIED:20250827T153144Z
UID:3277-1760097600-1760099400@elsxurravins.com
SUMMARY:LA VEU DE LA GENT GRAN - DIVENDRES 10 D'OCTUBRE A LES 12:00h - ACTIVITATS DELS XURRAVINS
DESCRIPTION:A partir del mes d’octubre d’enguany\, el segon divendres\, a La Veu de la Gent Gran es parlarà de les activitats dels Xurravins. \nInformació fidel de les novetats i les activitats dels Xurravins.
URL:https://elsxurravins.com/esdeveniment/la-veu-de-la-gent-gran-divendres-10-doctubre-a-les-1200h-activitats-dels-xurravins/
CATEGORIES:Esdeveniments,Ràdio
ATTACH;FMTTYPE=image/jpeg:https://elsxurravins.com/wp-content/uploads/2025/08/251010LaVeu.jpg
ORGANIZER;CN="Associaci%C3%B3 de gent gran els Xurravins":MAILTO:xurravins@gmail.com
END:VEVENT
END:VCALENDAR