BEGIN:VCALENDAR
VERSION:2.0
PRODID:-//“Els Xurravins” Associació de Gent Gran - ECPv6.15.12.2//NONSGML v1.0//EN
CALSCALE:GREGORIAN
METHOD:PUBLISH
X-ORIGINAL-URL:https://elsxurravins.com
X-WR-CALDESC:Esdeveniments per “Els Xurravins” Associació de Gent Gran
REFRESH-INTERVAL;VALUE=DURATION:PT1H
X-Robots-Tag:noindex
X-PUBLISHED-TTL:PT1H
BEGIN:VTIMEZONE
TZID:Europe/Madrid
BEGIN:DAYLIGHT
TZOFFSETFROM:+0100
TZOFFSETTO:+0200
TZNAME:CEST
DTSTART:20250330T010000
END:DAYLIGHT
BEGIN:STANDARD
TZOFFSETFROM:+0200
TZOFFSETTO:+0100
TZNAME:CET
DTSTART:20251026T010000
END:STANDARD
BEGIN:DAYLIGHT
TZOFFSETFROM:+0100
TZOFFSETTO:+0200
TZNAME:CEST
DTSTART:20260329T010000
END:DAYLIGHT
BEGIN:STANDARD
TZOFFSETFROM:+0200
TZOFFSETTO:+0100
TZNAME:CET
DTSTART:20261025T010000
END:STANDARD
BEGIN:DAYLIGHT
TZOFFSETFROM:+0100
TZOFFSETTO:+0200
TZNAME:CEST
DTSTART:20270328T010000
END:DAYLIGHT
BEGIN:STANDARD
TZOFFSETFROM:+0200
TZOFFSETTO:+0100
TZNAME:CET
DTSTART:20271031T010000
END:STANDARD
END:VTIMEZONE
BEGIN:VEVENT
DTSTART;TZID=Europe/Madrid:20260227T120000
DTEND;TZID=Europe/Madrid:20260227T130000
DTSTAMP:20260421T121855
CREATED:20260108T183528Z
LAST-MODIFIED:20260108T185335Z
UID:3432-1772193600-1772197200@elsxurravins.com
SUMMARY:LA VEU DE LA GENT GRAN - ESCOLES RECUPERADES - DIVENDRES 27 DE FEBRER - A LES 12:00h
DESCRIPTION:
URL:https://elsxurravins.com/esdeveniment/la-veu-de-la-gent-gran-escoles-recuperades-divendres-27-de-febrer-a-les-1200h/
LOCATION:Radio Santvi
CATEGORIES:Esdeveniments,Ràdio
ATTACH;FMTTYPE=image/jpeg:https://elsxurravins.com/wp-content/uploads/2025/11/2511143VM.jpg
ORGANIZER;CN="Associaci%C3%B3 de gent gran els Xurravins":MAILTO:xurravins@gmail.com
END:VEVENT
END:VCALENDAR